BEGIN:VCALENDAR
VERSION:2.0
PRODID:-//Miracle Area Narcotics Anonymous - ECPv6.15.18//NONSGML v1.0//EN
CALSCALE:GREGORIAN
METHOD:PUBLISH
X-WR-CALNAME:Miracle Area Narcotics Anonymous
X-ORIGINAL-URL:https://miracleareana.com
X-WR-CALDESC:Events for Miracle Area Narcotics Anonymous
REFRESH-INTERVAL;VALUE=DURATION:PT1H
X-Robots-Tag:noindex
X-PUBLISHED-TTL:PT1H
BEGIN:VTIMEZONE
TZID:America/Chicago
BEGIN:DAYLIGHT
TZOFFSETFROM:-0600
TZOFFSETTO:-0500
TZNAME:CDT
DTSTART:20230312T080000
END:DAYLIGHT
BEGIN:STANDARD
TZOFFSETFROM:-0500
TZOFFSETTO:-0600
TZNAME:CST
DTSTART:20231105T070000
END:STANDARD
BEGIN:DAYLIGHT
TZOFFSETFROM:-0600
TZOFFSETTO:-0500
TZNAME:CDT
DTSTART:20240310T080000
END:DAYLIGHT
BEGIN:STANDARD
TZOFFSETFROM:-0500
TZOFFSETTO:-0600
TZNAME:CST
DTSTART:20241103T070000
END:STANDARD
BEGIN:DAYLIGHT
TZOFFSETFROM:-0600
TZOFFSETTO:-0500
TZNAME:CDT
DTSTART:20250309T080000
END:DAYLIGHT
BEGIN:STANDARD
TZOFFSETFROM:-0500
TZOFFSETTO:-0600
TZNAME:CST
DTSTART:20251102T070000
END:STANDARD
BEGIN:DAYLIGHT
TZOFFSETFROM:-0600
TZOFFSETTO:-0500
TZNAME:CDT
DTSTART:20260308T080000
END:DAYLIGHT
BEGIN:STANDARD
TZOFFSETFROM:-0500
TZOFFSETTO:-0600
TZNAME:CST
DTSTART:20261101T070000
END:STANDARD
BEGIN:DAYLIGHT
TZOFFSETFROM:-0600
TZOFFSETTO:-0500
TZNAME:CDT
DTSTART:20270314T080000
END:DAYLIGHT
BEGIN:STANDARD
TZOFFSETFROM:-0500
TZOFFSETTO:-0600
TZNAME:CST
DTSTART:20271107T070000
END:STANDARD
END:VTIMEZONE
BEGIN:VEVENT
DTSTART;TZID=America/Chicago:20260530T160000
DTEND;TZID=America/Chicago:20260530T210000
DTSTAMP:20260421T131019
CREATED:20260329T163524Z
LAST-MODIFIED:20260329T163525Z
UID:852-1780156800-1780174800@miracleareana.com
SUMMARY:Masquerade NA Ball New Beginnings
DESCRIPTION:Pasta Dinner\, Dance\, Raffle\, Surprise Speakers!
URL:https://miracleareana.com/event/masquerade-na-ball-new-beginnings/
LOCATION:Flory Building 2120 Harper Lawrence
END:VEVENT
BEGIN:VEVENT
DTSTART;TZID=America/Chicago:20260501T040000
DTEND;TZID=America/Chicago:20260503T120000
DTSTAMP:20260421T131019
CREATED:20260329T162355Z
LAST-MODIFIED:20260329T162356Z
UID:846-1777608000-1777809600@miracleareana.com
SUMMARY:Spring Campout
DESCRIPTION:May 1-3 2026
URL:https://miracleareana.com/event/spring-campout/
LOCATION:Wolf Creek Pomona Lake\, 4656 Wolf pkwy\, quenemo\, Kansas\, 66528
END:VEVENT
BEGIN:VEVENT
DTSTART;TZID=America/Chicago:20260411T020000
DTEND;TZID=America/Chicago:20260411T060000
DTSTAMP:20260421T131019
CREATED:20260329T162837Z
LAST-MODIFIED:20260329T162837Z
UID:850-1775872800-1775887200@miracleareana.com
SUMMARY:Countryside living clean Anniversary
DESCRIPTION:Lecompton
URL:https://miracleareana.com/event/countryside-living-clean-anniversary/
END:VEVENT
BEGIN:VEVENT
DTSTART;TZID=America/Chicago:20250927T030000
DTEND;TZID=America/Chicago:20250927T100000
DTSTAMP:20260421T131019
CREATED:20250608T183432Z
LAST-MODIFIED:20250608T183433Z
UID:826-1758942000-1758967200@miracleareana.com
SUMMARY:Alive&Kickin
DESCRIPTION:Annual Fish Fry
URL:https://miracleareana.com/event/alivekickin/
LOCATION:Pomona Lake Shelter House #4
END:VEVENT
BEGIN:VEVENT
DTSTART;TZID=America/Chicago:20250719T020000
DTEND;TZID=America/Chicago:20250719T060000
DTSTAMP:20260421T131019
CREATED:20250608T233412Z
LAST-MODIFIED:20250608T233434Z
UID:836-1752890400-1752904800@miracleareana.com
SUMMARY:Lotta Soul
DESCRIPTION:Literature Fundraiser Brady Hall 946 Vermont
URL:https://miracleareana.com/event/lotta-soul/
END:VEVENT
BEGIN:VEVENT
DTSTART;TZID=America/Chicago:20250621T010000
DTEND;TZID=America/Chicago:20250621T060000
DTSTAMP:20260421T131019
CREATED:20250511T180037Z
LAST-MODIFIED:20250511T180038Z
UID:822-1750467600-1750485600@miracleareana.com
SUMMARY:HNI Day at the park
DESCRIPTION:Dad perry park 1200 Monterey way
URL:https://miracleareana.com/event/hni-day-at-the-park/
END:VEVENT
BEGIN:VEVENT
DTSTART;TZID=America/Chicago:20240928T010000
DTEND;TZID=America/Chicago:20240928T080000
DTSTAMP:20260421T131019
CREATED:20240813T082905Z
LAST-MODIFIED:20240822T194724Z
UID:770-1727485200-1727510400@miracleareana.com
SUMMARY:Alive n' Kickin Fish Fry Pomona Lake Michigan Valley Shelter#4
DESCRIPTION:
URL:https://miracleareana.com/event/alive-n-kickin-fish-fry/
CATEGORIES:Social
END:VEVENT
END:VCALENDAR